BEGIN:VCALENDAR
VERSION:2.0
PRODID:-//wp-events-plugin.com//7.2.3.1//EN
TZID:Europe/Berlin
X-WR-TIMEZONE:Europe/Berlin
BEGIN:VEVENT
UID:9@xxtalents.de
DTSTART;TZID=Europe/Berlin:20250424T123000
DTEND;TZID=Europe/Berlin:20250424T130000
DTSTAMP:20250402T104533Z
URL:https://www.xxtalents.de/events/haltung-wirksamkeit-in-zeiten-anspruch
 svoller-transformation-copy-2-copy
SUMMARY:Success Chat
DESCRIPTION:Success Chat mit Sylvia Tarves zu brennenden Fragen rund um die
  persönliche Karriereentwicklung.
ATTACH;FMTTYPE=image/jpeg:https://www.xxtalents.de/wp-content/uploads/2025
 /02/Success-Chat-300.jpg
CATEGORIES:Success Chat
LOCATION:http://www.google.de
END:VEVENT
BEGIN:VTIMEZONE
TZID:Europe/Berlin
X-LIC-LOCATION:Europe/Berlin
BEGIN:DAYLIGHT
DTSTART:20250330T030000
TZOFFSETFROM:+0100
TZOFFSETTO:+0200
TZNAME:CEST
END:DAYLIGHT
END:VTIMEZONE
END:VCALENDAR